BEGIN:VCALENDAR
VERSION:2.0
PRODID:-//CLWA - ECPv6.15.20//NONSGML v1.0//EN
CALSCALE:GREGORIAN
METHOD:PUBLISH
X-WR-CALNAME:CLWA
X-ORIGINAL-URL:https://www.canandaigualakeassoc.org
X-WR-CALDESC:Events for CLWA
REFRESH-INTERVAL;VALUE=DURATION:PT1H
X-Robots-Tag:noindex
X-PUBLISHED-TTL:PT1H
BEGIN:VTIMEZONE
TZID:America/New_York
BEGIN:DAYLIGHT
TZOFFSETFROM:-0500
TZOFFSETTO:-0400
TZNAME:EDT
DTSTART:20240310T070000
END:DAYLIGHT
BEGIN:STANDARD
TZOFFSETFROM:-0400
TZOFFSETTO:-0500
TZNAME:EST
DTSTART:20241103T060000
END:STANDARD
BEGIN:DAYLIGHT
TZOFFSETFROM:-0500
TZOFFSETTO:-0400
TZNAME:EDT
DTSTART:20250309T070000
END:DAYLIGHT
BEGIN:STANDARD
TZOFFSETFROM:-0400
TZOFFSETTO:-0500
TZNAME:EST
DTSTART:20251102T060000
END:STANDARD
BEGIN:DAYLIGHT
TZOFFSETFROM:-0500
TZOFFSETTO:-0400
TZNAME:EDT
DTSTART:20260308T070000
END:DAYLIGHT
BEGIN:STANDARD
TZOFFSETFROM:-0400
TZOFFSETTO:-0500
TZNAME:EST
DTSTART:20261101T060000
END:STANDARD
END:VTIMEZONE
BEGIN:VEVENT
DTSTART;TZID=America/New_York:20251109T160000
DTEND;TZID=America/New_York:20251109T170000
DTSTAMP:20260425T200353
CREATED:20251016T214837Z
LAST-MODIFIED:20251016T221439Z
UID:8278-1762704000-1762707600@www.canandaigualakeassoc.org
SUMMARY:You’re Invited: The Fight for Freshwater: Protecting the Finger Lakes and the Great Lakes.
DESCRIPTION:You’re Invited: A powerful conversation on the future of our lakes  — with Pulitzer finalist Dan Egan \nWe’re excited to share that the Canandaigua Lake Watershed Association is partnering with the Ewing Forum to welcome Dan Egan — two-time Pulitzer Prize finalist and best-selling author of The Death and Life of the Great Lakes and The Devil’s Element — for a special talk on the growing threats to North America’s freshwater systems. \nWHEN: Sunday\, November 9\, 4:00 p.m.\nWHERE: Fort Hill Performing Arts Center\, 20 Fort Hill Ave\, Canandaigua \nEgan’s work has shaped national conversations around invasive species\, phosphorus pollution\, and the urgent need for stronger freshwater policy. His talk will explore how warming waters and nutrient runoff are altering the ecosystems that sustain us — and how community action can make a difference. \nModerated by our friend Andy Zepp\, President of the Finger Lakes Land Trust\, this discussion promises to be both eye-opening and inspiring. \nTickets: $30\nGet yours today: gmeforum.org or call (585) 412-6043 \nCLWA is proud to partner on this important event — one that speaks directly to our shared mission to protect\,  preserve\, and restore Canandaigua Lake. \nWe hope to see you there!
URL:https://www.canandaigualakeassoc.org/event/youre-invited-the-fight-for-freshwater-protecting-the-finger-lakes-and-the-great-lakes/
LOCATION:Fort Hill Performing Arts Center
ATTACH;FMTTYPE=application/pdf:https://www.canandaigualakeassoc.org/wp-content/uploads/2025/10/Egan-with-Ticket-Link.pdf
END:VEVENT
END:VCALENDAR