BEGIN:VCALENDAR
VERSION:2.0
PRODID:-//CLWA - ECPv6.15.20//NONSGML v1.0//EN
CALSCALE:GREGORIAN
METHOD:PUBLISH
X-ORIGINAL-URL:https://www.canandaigualakeassoc.org
X-WR-CALDESC:Events for CLWA
REFRESH-INTERVAL;VALUE=DURATION:PT1H
X-Robots-Tag:noindex
X-PUBLISHED-TTL:PT1H
BEGIN:VTIMEZONE
TZID:America/New_York
BEGIN:DAYLIGHT
TZOFFSETFROM:-0500
TZOFFSETTO:-0400
TZNAME:EDT
DTSTART:20240310T070000
END:DAYLIGHT
BEGIN:STANDARD
TZOFFSETFROM:-0400
TZOFFSETTO:-0500
TZNAME:EST
DTSTART:20241103T060000
END:STANDARD
BEGIN:DAYLIGHT
TZOFFSETFROM:-0500
TZOFFSETTO:-0400
TZNAME:EDT
DTSTART:20250309T070000
END:DAYLIGHT
BEGIN:STANDARD
TZOFFSETFROM:-0400
TZOFFSETTO:-0500
TZNAME:EST
DTSTART:20251102T060000
END:STANDARD
BEGIN:DAYLIGHT
TZOFFSETFROM:-0500
TZOFFSETTO:-0400
TZNAME:EDT
DTSTART:20260308T070000
END:DAYLIGHT
BEGIN:STANDARD
TZOFFSETFROM:-0400
TZOFFSETTO:-0500
TZNAME:EST
DTSTART:20261101T060000
END:STANDARD
END:VTIMEZONE
BEGIN:VEVENT
DTSTART;TZID=America/New_York:20251015T160000
DTEND;TZID=America/New_York:20251015T200000
DTSTAMP:20260425T212630
CREATED:20250929T180847Z
LAST-MODIFIED:20250929T184021Z
UID:8217-1760544000-1760558400@www.canandaigualakeassoc.org
SUMMARY:CLWA Chipotle Fundraiser
DESCRIPTION:Mark your calendars for October 15th from 4-8 PM and for our fall Chipotle fundraiser in support of the Canandaigua Lake Watershed Association! \nCottages are closing up\, and back-to-school season is in full swing – we know you have a lot on your plate. Why not take a break from cooking dinner and let Chipotle handle it? Swing by\, grab some delicious burritos or taco salads\, and support lake protection efforts. \nIt’s a win-win—treat yourself to a tasty meal and make a positive impact on the watershed! 25% of sales is donated to CLWA. \nOrder online for pickup using FTMN6Z7 or show this flyer in the restaurant.
URL:https://www.canandaigualakeassoc.org/event/clwa-chipotle-fundraiser/
LOCATION:New York
ATTACH;FMTTYPE=image/png:https://www.canandaigualakeassoc.org/wp-content/uploads/2025/09/CLWA-Chipolte-Fundraiser.pdf-Facebook-Post-Landscape.png
END:VEVENT
BEGIN:VEVENT
DTSTART;TZID=America/New_York:20251025T093000
DTEND;TZID=America/New_York:20251025T143000
DTSTAMP:20260425T212630
CREATED:20250929T185132Z
LAST-MODIFIED:20250929T185234Z
UID:8223-1761384600-1761402600@www.canandaigualakeassoc.org
SUMMARY:New York State Federation of Lakes Association (NYSFOLA) Western Region Conference
DESCRIPTION:When: Saturday\, October 25th\, 9:30 AM – 2:30 PM \nWhere: The Woods\, 6021 State Route 21\, Naples\, NY 14512 \nJoin NYSFOLA for its 32nd Annual Western Regional Conference at this gorgeous location with breathtaking views of the Lake. During this conference\, you will have the opportunity to learn from water quality experts on current lake and watershed issues facing our region\, and have the chance to connect with fellow lake lovers involved in surrounding lake associations. \nYou will find further conference details\, including the cost and agenda at the registration link below. We hope you can join us for this fabulous event. Register here. \nPhoto by The Woods
URL:https://www.canandaigualakeassoc.org/event/new-york-state-federation-of-lakes-association-nysfola-western-region-conference/
LOCATION:The Woods\, 6021 State Rte 21\, Naples\, NY\, 14512\, United States
ATTACH;FMTTYPE=image/png:https://www.canandaigualakeassoc.org/wp-content/uploads/2025/09/unnamed-5.png
END:VEVENT
END:VCALENDAR