BEGIN:VCALENDAR
VERSION:2.0
PRODID:-//CLWA - ECPv6.15.20//NONSGML v1.0//EN
CALSCALE:GREGORIAN
METHOD:PUBLISH
X-WR-CALNAME:CLWA
X-ORIGINAL-URL:https://www.canandaigualakeassoc.org
X-WR-CALDESC:Events for CLWA
REFRESH-INTERVAL;VALUE=DURATION:PT1H
X-Robots-Tag:noindex
X-PUBLISHED-TTL:PT1H
BEGIN:VTIMEZONE
TZID:America/New_York
BEGIN:DAYLIGHT
TZOFFSETFROM:-0500
TZOFFSETTO:-0400
TZNAME:EDT
DTSTART:20200308T070000
END:DAYLIGHT
BEGIN:STANDARD
TZOFFSETFROM:-0400
TZOFFSETTO:-0500
TZNAME:EST
DTSTART:20201101T060000
END:STANDARD
BEGIN:DAYLIGHT
TZOFFSETFROM:-0500
TZOFFSETTO:-0400
TZNAME:EDT
DTSTART:20210314T070000
END:DAYLIGHT
BEGIN:STANDARD
TZOFFSETFROM:-0400
TZOFFSETTO:-0500
TZNAME:EST
DTSTART:20211107T060000
END:STANDARD
BEGIN:DAYLIGHT
TZOFFSETFROM:-0500
TZOFFSETTO:-0400
TZNAME:EDT
DTSTART:20220313T070000
END:DAYLIGHT
BEGIN:STANDARD
TZOFFSETFROM:-0400
TZOFFSETTO:-0500
TZNAME:EST
DTSTART:20221106T060000
END:STANDARD
BEGIN:DAYLIGHT
TZOFFSETFROM:-0500
TZOFFSETTO:-0400
TZNAME:EDT
DTSTART:20230312T070000
END:DAYLIGHT
BEGIN:STANDARD
TZOFFSETFROM:-0400
TZOFFSETTO:-0500
TZNAME:EST
DTSTART:20231105T060000
END:STANDARD
END:VTIMEZONE
BEGIN:VEVENT
DTSTART;TZID=America/New_York:20220322T050000
DTEND;TZID=America/New_York:20220322T070000
DTSTAMP:20260423T164250
CREATED:20220204T004241Z
LAST-MODIFIED:20220204T004545Z
UID:4394-1647925200-1647932400@www.canandaigualakeassoc.org
SUMMARY:Education Program at Marcus Whitman: 3rd Grade
DESCRIPTION:3rd Grade Lesson: \nStudents will be introduced to what a watershed is and learn about how it functions by viewing a few different models of one. The majority of the lesson is focused on the use of the EnviroScape watershed model in order to demonstrate how storm water runoff carries non-point source pollutants through the watershed to a pond\, lake\, river\, bay\, or ocean. Best management practices to prevent this type of pollution is then discussed.
URL:https://www.canandaigualakeassoc.org/event/education-program-at-marcus-whitman-3rd-grade-2/
LOCATION:Gorham Elementary
END:VEVENT
BEGIN:VEVENT
DTSTART;TZID=America/New_York:20220315T123000
DTEND;TZID=America/New_York:20220315T140000
DTSTAMP:20260423T164250
CREATED:20220311T230330Z
LAST-MODIFIED:20220311T230330Z
UID:4453-1647347400-1647352800@www.canandaigualakeassoc.org
SUMMARY:CLWA Board Meeting
DESCRIPTION:
URL:https://www.canandaigualakeassoc.org/event/clwa-board-meeting-4/
LOCATION:Via Zoom
END:VEVENT
BEGIN:VEVENT
DTSTART;TZID=America/New_York:20220315T050000
DTEND;TZID=America/New_York:20220315T070000
DTSTAMP:20260423T164250
CREATED:20220204T004125Z
LAST-MODIFIED:20220204T004125Z
UID:4391-1647320400-1647327600@www.canandaigualakeassoc.org
SUMMARY:Education Program at Marcus Whitman: 3rd Grade
DESCRIPTION:3rd Grade Lesson: \nStudents will be introduced to what a watershed is and learn about how it functions by viewing a few different models of one. The majority of the lesson is focused on the use of the EnviroScape watershed model in order to demonstrate how storm water runoff carries non-point source pollutants through the watershed to a pond\, lake\, river\, bay\, or ocean. Best management practices to prevent this type of pollution is then discussed.
URL:https://www.canandaigualakeassoc.org/event/education-program-at-marcus-whitman-3rd-grade/
LOCATION:Gorham Elementary
END:VEVENT
BEGIN:VEVENT
DTSTART;TZID=America/New_York:20220311T040000
DTEND;TZID=America/New_York:20220311T100000
DTSTAMP:20260423T164250
CREATED:20220201T001944Z
LAST-MODIFIED:20220201T002606Z
UID:4353-1646971200-1646992800@www.canandaigualakeassoc.org
SUMMARY:Education Program at Canandaigua: 3rd Grade
DESCRIPTION:3rd Grade Lesson: \nStudents will be introduced to what a watershed is and learn about how it functions by viewing a few different models of one. The majority of the lesson is focused on the use of the EnviroScape watershed model in order to demonstrate how storm water runoff carries non-point source pollutants through the watershed to a pond\, lake\, river\, bay\, or ocean. Best management practices to prevent this type of pollution is then discussed.
URL:https://www.canandaigualakeassoc.org/event/education-program-canandaigua-3rd-grade-2/
LOCATION:Canandaigua Elementary
END:VEVENT
BEGIN:VEVENT
DTSTART;TZID=America/New_York:20220308T040000
DTEND;TZID=America/New_York:20220308T100000
DTSTAMP:20260423T164250
CREATED:20220201T001531Z
LAST-MODIFIED:20220201T002615Z
UID:4350-1646712000-1646733600@www.canandaigualakeassoc.org
SUMMARY:Education Program at Canandaigua: 3rd Grade
DESCRIPTION:3rd Grade Lesson: \nStudents will be introduced to what a watershed is and learn about how it functions by viewing a few different models of one. The majority of the lesson is focused on the use of the EnviroScape watershed model in order to demonstrate how storm water runoff carries non-point source pollutants through the watershed to a pond\, lake\, river\, bay\, or ocean. Best management practices to prevent this type of pollution is then discussed.
URL:https://www.canandaigualakeassoc.org/event/education-program-canandaigua-3rd-grade/
LOCATION:Canandaigua Elementary
END:VEVENT
BEGIN:VEVENT
DTSTART;TZID=America/New_York:20220304T030000
DTEND;TZID=America/New_York:20220304T083000
DTSTAMP:20260423T164250
CREATED:20220201T001155Z
LAST-MODIFIED:20220201T002627Z
UID:4348-1646362800-1646382600@www.canandaigualakeassoc.org
SUMMARY:Education Program at Naples: 3rd\, 4th\, and 5th Grade
DESCRIPTION:3rd Grade Lesson: \nStudents will be introduced to what a watershed is and learn about how it functions by viewing a few different models of one. The majority of the lesson is focused on the use of the EnviroScape watershed model in order to demonstrate how storm water runoff carries non-point source pollutants through the watershed to a pond\, lake\, river\, bay\, or ocean. Best management practices to prevent this type of pollution is then discussed. \n4th Grade Lesson: \nThis lesson reinforces and expands on elementary science representations of key water cycle dynamics. It includes relevant terminology and a conservation/protection message about one of Earth’s most valuable and finite resources. \n5th Grade Lesson: \nStudents will learn about the different ways humans use the land and the potential impacts these uses can have on water quality. \n 
URL:https://www.canandaigualakeassoc.org/event/education-program-naples-3rd-4th-and-5th-grade-2/
END:VEVENT
BEGIN:VEVENT
DTSTART;TZID=America/New_York:20220302T040000
DTEND;TZID=America/New_York:20220302T083000
DTSTAMP:20260423T164250
CREATED:20220201T000858Z
LAST-MODIFIED:20220201T002637Z
UID:4346-1646193600-1646209800@www.canandaigualakeassoc.org
SUMMARY:Education Program at Naples: 3rd\, 4th\, and 5th Grade
DESCRIPTION:3rd Grade Lesson: \nStudents will be introduced to what a watershed is and learn about how it functions by viewing a few different models of one. The majority of the lesson is focused on the use of the EnviroScape watershed model in order to demonstrate how storm water runoff carries non-point source pollutants through the watershed to a pond\, lake\, river\, bay\, or ocean. Best management practices to prevent this type of pollution is then discussed. \n4th Grade Lesson: \nThis lesson reinforces and expands on elementary science representations of key water cycle dynamics. It includes relevant terminology and a conservation/protection message about one of Earth’s most valuable and finite resources. \n5th Grade Lesson: \nStudents will learn about the different ways humans use the land and the potential impacts these uses can have on water quality. \n 
URL:https://www.canandaigualakeassoc.org/event/education-program-naples-3rd-4th-and-5th-grade/
LOCATION:Naples Elementary School
END:VEVENT
BEGIN:VEVENT
DTSTART;TZID=America/New_York:20220301T030000
DTEND;TZID=America/New_York:20220301T050000
DTSTAMP:20260423T164250
CREATED:20220201T000512Z
LAST-MODIFIED:20220201T002646Z
UID:4343-1646103600-1646110800@www.canandaigualakeassoc.org
SUMMARY:Education Program at Naples: 4th and 5th Grade
DESCRIPTION:4th Grade Lesson: \nThis lesson reinforces and expands on elementary science representations of key water cycle dynamics. It includes relevant terminology and a conservation/protection message about one of Earth’s most valuable and finite resources. \n  \n5th Grade Lesson: \nStudents will learn about the different ways humans use the land and the potential impacts these uses can have on water quality.
URL:https://www.canandaigualakeassoc.org/event/education-program-naples-4th-and-5th-grade/
LOCATION:Naples Elementary School
END:VEVENT
BEGIN:VEVENT
DTSTART;TZID=America/New_York:20220228T040000
DTEND;TZID=America/New_York:20220228T070000
DTSTAMP:20260423T164251
CREATED:20220131T234932Z
LAST-MODIFIED:20220201T004827Z
UID:4338-1646020800-1646031600@www.canandaigualakeassoc.org
SUMMARY:Education Program at Naples: 3rd and 5th Grade
DESCRIPTION:3rd Grade Lesson: \nStudents will be introduced to what a watershed is and learn about how it functions by viewing a few different models of one. The majority of the lesson is focused on the use of the EnviroScape watershed model in order to demonstrate how storm water runoff carries non-point source pollutants through the watershed to a pond\, lake\, river\, bay\, or ocean. Best management practices to prevent this type of pollution is then discussed. \n  \n5th Grade: \nStudents will learn about the different ways humans use the land and the potential impacts these uses can have on water quality.
URL:https://www.canandaigualakeassoc.org/event/education-program-naples-elementary-3rd-and-5th-grade/
END:VEVENT
BEGIN:VEVENT
DTSTART;TZID=America/New_York:20220227T080000
DTEND;TZID=America/New_York:20220227T100000
DTSTAMP:20260423T164251
CREATED:20220131T231044Z
LAST-MODIFIED:20220131T231154Z
UID:4331-1645948800-1645956000@www.canandaigualakeassoc.org
SUMMARY:Hemlock Woolly Adelgid Survey Training Workshop
DESCRIPTION:The Hemlock Woolly Adelgid (HWA) is an invasive forest pest that is threatening hemlock trees across the Finger Lakes region. HWA poses a significant threat to the structure of our watershed gullies\, the beauty of our lakeside properties\, and ultimately\, our water quality. \nMapping the occurrence of HWA is of critical importance as we develop future HWA management efforts. You can help by learning to identify hemlocks and HWA\, and reporting your findings using iMapInvasives. \nJoin us for an HWA Survey Training and Hike on Sunday\, February 27th at 1:00 PM at Cumming Nature Center in Naples\, NY  to learn more about this invasive and what you can do to help. \nRegistration is required: https://forms.gle/Mm3KmBh6x5VdVQSTA \nLeading up to the event\, we ask that you make an iMapInvasives account by visiting https://www.imapinvasives.org/ on a desktop or laptop computer. It will also be helpful to download the iMapInvasives app on your smartphone device. \n*Masks will be required at this event*
URL:https://www.canandaigualakeassoc.org/event/hemlock-woolly-adelgid-survey-training-workshop/
LOCATION:Cumming Nature Center\, 6472 Gulick Road\, Naples\, NY\, 14512\, United States
ATTACH;FMTTYPE=image/png:https://www.canandaigualakeassoc.org/wp-content/uploads/2022/01/facebook-event-cover.png
END:VEVENT
BEGIN:VEVENT
DTSTART;TZID=America/New_York:20220218T090000
DTEND;TZID=America/New_York:20220218T110000
DTSTAMP:20260423T164251
CREATED:20220209T004536Z
LAST-MODIFIED:20220209T195831Z
UID:4404-1645174800-1645182000@www.canandaigualakeassoc.org
SUMMARY:Public Presentation: Update of the Canandaigua Lake Watershed Plan
DESCRIPTION:Public Presentation: Update of the Canandaigua Lake Watershed Plan\, February 18th at 2 pm \nA public meeting will be held to provide an update on the process to incorporate the EPA Nine Elements into the existing watershed plan for Canandaigua Lake. \nThe public will be able to comment on updating the plan at the meeting and on the Watershed Council’s website: https://www.canandaigualake.org/9e-plan \nPresenters will include Watershed Council staff and professors and a doctoral student from Cornell University. They will: \n\nReview the existing Watershed Plan\nDescribe the process to update the plan to a 9 Element Plan\nSummarize computer modeling and water quality monitoring helping to estimate pollution loads\, and\nProvide a draft set of Best Management Practices with pollution reduction estimates.\n\nThis public meeting will be held virtually via Zoom: https://us06web.zoom.us/j/81776568894… \nMeeting ID: 817 7656 8894\nPasscode: 522366\nOne tap mobile: 19292056099 \nContact the Watershed Council:\n(585) 396-3630\nklo@canandaiguanewyork.gov
URL:https://www.canandaigualakeassoc.org/event/public-presentation-update-of-the-canandaigua-lake-watershed-plan/
LOCATION:Via Zoom
ATTACH;FMTTYPE=image/jpeg:https://www.canandaigualakeassoc.org/wp-content/uploads/2014/08/managemnt-plan-pic.jpg
END:VEVENT
BEGIN:VEVENT
DTSTART;TZID=America/New_York:20220215T113000
DTEND;TZID=America/New_York:20220215T130000
DTSTAMP:20260423T164251
CREATED:20211209T002937Z
LAST-MODIFIED:20211209T002937Z
UID:4218-1644924600-1644930000@www.canandaigualakeassoc.org
SUMMARY:CLWA Board Meeting
DESCRIPTION:
URL:https://www.canandaigualakeassoc.org/event/clwa-board-meeting-3/
LOCATION:Via Zoom
END:VEVENT
BEGIN:VEVENT
DTSTART;TZID=America/New_York:20220209T040000
DTEND;TZID=America/New_York:20220209T070000
DTSTAMP:20260423T164251
CREATED:20220131T232608Z
LAST-MODIFIED:20220201T002708Z
UID:4336-1644379200-1644390000@www.canandaigualakeassoc.org
SUMMARY:Education Program at Marcus Whitman: 5th Grade
DESCRIPTION:Students will learn about the different ways humans use the land and the potential impacts these uses can have on water quality.
URL:https://www.canandaigualakeassoc.org/event/education-program-marcus-whitman-5th-grade/
END:VEVENT
BEGIN:VEVENT
DTSTART;TZID=America/New_York:20220202T113000
DTEND;TZID=America/New_York:20220202T130000
DTSTAMP:20260423T164251
CREATED:20211209T002906Z
LAST-MODIFIED:20211209T002906Z
UID:4216-1643801400-1643806800@www.canandaigualakeassoc.org
SUMMARY:Communications Committee Meeting
DESCRIPTION:
URL:https://www.canandaigualakeassoc.org/event/communications-committee-meeting-2/
LOCATION:Via Zoom
END:VEVENT
BEGIN:VEVENT
DTSTART;TZID=America/New_York:20220202T053000
DTEND;TZID=America/New_York:20220202T070000
DTSTAMP:20260423T164251
CREATED:20211209T002755Z
LAST-MODIFIED:20211209T002755Z
UID:4214-1643779800-1643785200@www.canandaigualakeassoc.org
SUMMARY:Citizen Science Committee Meeting
DESCRIPTION:
URL:https://www.canandaigualakeassoc.org/event/citizen-science-committee-meeting-2/
LOCATION:Via Zoom
END:VEVENT
BEGIN:VEVENT
DTSTART;TZID=America/New_York:20220201T070000
DTEND;TZID=America/New_York:20220201T083000
DTSTAMP:20260423T164251
CREATED:20211209T002705Z
LAST-MODIFIED:20211209T002705Z
UID:4212-1643698800-1643704200@www.canandaigualakeassoc.org
SUMMARY:Membership Committee Meeting
DESCRIPTION:
URL:https://www.canandaigualakeassoc.org/event/membership-committee-meeting/
LOCATION:Via Zoom
END:VEVENT
BEGIN:VEVENT
DTSTART;TZID=America/New_York:20220201T030000
DTEND;TZID=America/New_York:20220201T120000
DTSTAMP:20260423T164251
CREATED:20220201T225858Z
LAST-MODIFIED:20220201T225858Z
UID:4387-1643684400-1643716800@www.canandaigualakeassoc.org
SUMMARY:Fire and Ice Festival
DESCRIPTION:Stop by the CLWA booth at the Fire and Ice Festival Saturday\, February 19th or Sunday\, February 20th to talk with CLWA Board Members and participate in a family friendly activity!
URL:https://www.canandaigualakeassoc.org/event/fire-and-ice-festival/
END:VEVENT
BEGIN:VEVENT
DTSTART;TZID=America/New_York:20220118T113000
DTEND;TZID=America/New_York:20220118T130000
DTSTAMP:20260423T164251
CREATED:20211130T231126Z
LAST-MODIFIED:20211130T231126Z
UID:4177-1642505400-1642510800@www.canandaigualakeassoc.org
SUMMARY:CLWA Board Meeting
DESCRIPTION:
URL:https://www.canandaigualakeassoc.org/event/clwa-board-meeting-2/
ATTACH;FMTTYPE=image/jpeg:https://www.canandaigualakeassoc.org/wp-content/uploads/2021/07/59494c48129f0-IMG_10381.jpg
END:VEVENT
BEGIN:VEVENT
DTSTART;TZID=America/New_York:20220118T070000
DTEND;TZID=America/New_York:20220118T080000
DTSTAMP:20260423T164251
CREATED:20220106T202308Z
LAST-MODIFIED:20220106T202308Z
UID:4284-1642489200-1642492800@www.canandaigualakeassoc.org
SUMMARY:Government Relations Meeting
DESCRIPTION:
URL:https://www.canandaigualakeassoc.org/event/government-relations-meeting/
LOCATION:Via Zoom
END:VEVENT
BEGIN:VEVENT
DTSTART;TZID=America/New_York:20220114T110000
DTEND;TZID=America/New_York:20220114T120000
DTSTAMP:20260423T164251
CREATED:20211228T203716Z
LAST-MODIFIED:20211228T205443Z
UID:4259-1642158000-1642161600@www.canandaigualakeassoc.org
SUMMARY:Education Committee Meeting
DESCRIPTION:
URL:https://www.canandaigualakeassoc.org/event/education-committee-meeting-2/
LOCATION:Via Zoom
END:VEVENT
BEGIN:VEVENT
DTSTART;TZID=America/New_York:20220112T113000
DTEND;TZID=America/New_York:20220112T130000
DTSTAMP:20260423T164251
CREATED:20211209T000859Z
LAST-MODIFIED:20220106T201429Z
UID:4208-1641987000-1641992400@www.canandaigualakeassoc.org
SUMMARY:Communications Committee Meeting
DESCRIPTION:
URL:https://www.canandaigualakeassoc.org/event/communications-committee-meeting/
END:VEVENT
BEGIN:VEVENT
DTSTART;TZID=America/New_York:20220105T053000
DTEND;TZID=America/New_York:20220105T070000
DTSTAMP:20260423T164251
CREATED:20211209T000800Z
LAST-MODIFIED:20211209T000817Z
UID:4206-1641360600-1641366000@www.canandaigualakeassoc.org
SUMMARY:Citizen Science Committee Meeting
DESCRIPTION:
URL:https://www.canandaigualakeassoc.org/event/citizen-science-committee-meeting/
LOCATION:Via Zoom
END:VEVENT
BEGIN:VEVENT
DTSTART;TZID=America/New_York:20220104T070000
DTEND;TZID=America/New_York:20220104T080000
DTSTAMP:20260423T164251
CREATED:20211209T000518Z
LAST-MODIFIED:20211209T000718Z
UID:4204-1641279600-1641283200@www.canandaigualakeassoc.org
SUMMARY:Membership Meeting
DESCRIPTION:
URL:https://www.canandaigualakeassoc.org/event/membership-meeting/
LOCATION:Via Zoom
END:VEVENT
BEGIN:VEVENT
DTSTART;TZID=America/New_York:20211221T113000
DTEND;TZID=America/New_York:20211221T130000
DTSTAMP:20260423T164251
CREATED:20211130T230918Z
LAST-MODIFIED:20211130T230918Z
UID:4175-1640086200-1640091600@www.canandaigualakeassoc.org
SUMMARY:CLWA Board Meeting
DESCRIPTION:
URL:https://www.canandaigualakeassoc.org/event/clwa-board-meeting/
ATTACH;FMTTYPE=image/jpeg:https://www.canandaigualakeassoc.org/wp-content/uploads/2021/07/59494c48129f0-IMG_10381.jpg
END:VEVENT
BEGIN:VEVENT
DTSTART;TZID=America/New_York:20211221T070000
DTEND;TZID=America/New_York:20211221T080000
DTSTAMP:20260423T164251
CREATED:20211220T211318Z
LAST-MODIFIED:20211220T211318Z
UID:4237-1640070000-1640073600@www.canandaigualakeassoc.org
SUMMARY:Government Relations Committee
DESCRIPTION:
URL:https://www.canandaigualakeassoc.org/event/government-relations-committee/
LOCATION:Via Zoom
END:VEVENT
BEGIN:VEVENT
DTSTART;TZID=America/New_York:20211217T084500
DTEND;TZID=America/New_York:20211217T094500
DTSTAMP:20260423T164251
CREATED:20211209T002604Z
LAST-MODIFIED:20211209T002604Z
UID:4210-1639730700-1639734300@www.canandaigualakeassoc.org
SUMMARY:Education Committee Meeting
DESCRIPTION:
URL:https://www.canandaigualakeassoc.org/event/education-committee-meeting/
LOCATION:Via Zoom
END:VEVENT
BEGIN:VEVENT
DTSTART;TZID=America/New_York:20211216T050000
DTEND;TZID=America/New_York:20211216T183000
DTSTAMP:20260423T164251
CREATED:20211209T000301Z
LAST-MODIFIED:20211209T000301Z
UID:4202-1639630800-1639679400@www.canandaigualakeassoc.org
SUMMARY:Outreach Committee Meeting
DESCRIPTION:
URL:https://www.canandaigualakeassoc.org/event/outreach-committee-meeting/
LOCATION:Via Zoom
END:VEVENT
BEGIN:VEVENT
DTSTART;TZID=America/New_York:20211028T150000
DTEND;TZID=America/New_York:20211028T160000
DTSTAMP:20260423T164251
CREATED:20211008T172329Z
LAST-MODIFIED:20211008T173813Z
UID:4012-1635433200-1635436800@www.canandaigualakeassoc.org
SUMMARY:Dark Times for Bats
DESCRIPTION:Join us for a discussion of the bats of New York\, in which we will learn of their unique natural history that for thousands of years made them masters in the hidden world of the night sky. Join in the discussion of how researchers were just beginning to understand their world in New York when\,  in just the last few decades\,  many of these same traits have become a liability that has suddenly put many species at risk of extinction.  Learn of the Columbian Exchange and how it is affecting not just bats\, but many other species in your back yard\, and how global warming looms over us all as the greatest threat our society has ever faced.  Learn how you can make a difference. \nAl Hicks was the mammal specialist for New York State’s endangered species program from its inception in 1979 to his retirement in 2010.  In that role he established the first comprehensive monitoring program of bat distribution and abundance ever conducted in the state\, and one of the very first in the country.  It was the New York Team that discovered the disease White-Nose Syndrome\,  which has caused the largest die-off of mammals ever recorded and  continues to this day. \nAfter  retirement he founded a  consulting company that did bat-related studies.  In the last three years he has become a volunteer with Citizens’ Climate Lobby\, a non-partisan\, non profit\, international organization focused entirely on climate change\, which works with elected officials at all levels to find and implement effective solutions to the climate crisis. \n  \nRegister at the link below: \nhttps://forms.gle/ni6ASnyXagppRH9Z7 \n  \n*Event is limited to 50 people. Register today!
URL:https://www.canandaigualakeassoc.org/event/dark-times-for-bats/
LOCATION:FLCC Stage 14
ATTACH;FMTTYPE=image/png:https://www.canandaigualakeassoc.org/wp-content/uploads/2021/10/DARK-TIMES-FOR-BATS.png
END:VEVENT
BEGIN:VEVENT
DTSTART;TZID=America/New_York:20211023T150000
DTEND;TZID=America/New_York:20211023T160000
DTSTAMP:20260423T164251
CREATED:20210927T165723Z
LAST-MODIFIED:20211001T204859Z
UID:3991-1635001200-1635004800@www.canandaigualakeassoc.org
SUMMARY:HISTORY OF GLACIAL LAKES IN THE CANANDAIGUA VALLEY
DESCRIPTION:*EVENT REGISTRATION CLOSED* \nCyclical periods of global warming and cooling during the last 2.5 million years of Earth history led to multiple episodes of massive\, advancing continental ice sheets in eastern North America.  In the Finger Lakes region\, the most recent advance\, a nearly two mile thick ice sheet formally known as the Wisconsin Stage\, began 75\,000 years ago and ended just 12\,000 years ago. \nBy reading the modern topography\, we can reasonably reconstruct the landscape appearance and historical story of glacial lakes that once stood in the Canandaigua Valley.  At this talk\, Dr. Bruce Gilman (Professor Emeritus of Environmental Conservation at Finger Lakes Community College) will discuss the geologic history of two periglacial lakes – Glacial Lake Naples and Glacial Lake Middlesex – and the movement of retreating ice sheets that eventually gave way to our modern lake. Full talk description here: https://cutt.ly/wEWRbuUxx \nDr. Bruce Gilman is Professor Emeritus of Environmental Conservation at Finger Lakes Community College.  In his retirement\, he remains involved in many aspects of freshwater conservation\, serving as a member of the Honeoye Lake Watershed Taskforce\, consulting scientist for the Canandaigua Lake Watershed Council\, gubernatorial appointee to the NYS Open Space Committee\, steering committee member for the Finger Lakes Partnership for Regional Invasive Species Management\, and scientific advisor to the Ontario County Water Resources Council.  He conducted his doctoral research\, which he received from SUNY ESF\, at the Conservancy’s Limerick Cedars Preserve.  Bruce is an avid birder\, Adirondack 46’er\, field botanist and author of the Ontario County Flora.  He enjoys time spent growing up again with his daughters and grandchildren.  Bruce lives with his wife Margo in Middlesex\, near Canandaigua Lake\, and has a cottage on Honeoye Lake. \nEmail: Bruce.Gilman@retiree.flcc.edu \n  \n*EVENT REGISTRATION FULL* \n  \n*This indoor event will be limited to 50 people and masks are required per FLCC guidelines.
URL:https://www.canandaigualakeassoc.org/event/history-of-glacial-lakes-in-the-canandaigua-valley/
LOCATION:FLCC Stage 14
ATTACH;FMTTYPE=image/jpeg:https://www.canandaigualakeassoc.org/wp-content/uploads/2021/09/DSC_0021-scaled.jpg
END:VEVENT
BEGIN:VEVENT
DTSTART;TZID=America/New_York:20210901T143000
DTEND;TZID=America/New_York:20210901T153000
DTSTAMP:20260423T164251
CREATED:20210613T023510Z
LAST-MODIFIED:20210817T184726Z
UID:3541-1630506600-1630510200@www.canandaigualakeassoc.org
SUMMARY:10 Seeds to Sow in September
DESCRIPTION:Join us for this online event with Petra Page-Mann\, Naples-native and Fruition Seed co-founder\, for gardening tips from this life-long gardener and to learn about the easiest seeds to sow in September. It’s not too late to surround yourself with abundance this fall! \nGrowing up in her father’s garden in the Finger Lakes\, Petra believes each seed and each of us is in the world to change the world. Her passion\, curiosity\, love of food and love of people led her all over the world studying seed\, song and culture worth celebrating. In 2012\, she co-founded Fruition Seeds with her partner Matthew to share the seeds\, knowledge and inspiration gardeners crave to amplify our individual as well as collective abundance in our short seasons.  If she’s not farming she is singing\, skiing\, snuggling her dogs\, hunting mushrooms or learning something new. \nAll attendees will be entered to win a free seed packet from Fruition Seeds! \n  \nRegister in advance for this meeting at the link below: \nhttps://us02web.zoom.us/meeting/register/tZYpc-utrTIqG91m9-QDRy8iREA9MXwK7uCa   \n \n  \n  \n 
URL:https://www.canandaigualakeassoc.org/event/10-seeds-to-sow-in-september/
LOCATION:Via Zoom
END:VEVENT
END:VCALENDAR