BEGIN:VCALENDAR
VERSION:2.0
PRODID:-//CLWA - ECPv6.15.20//NONSGML v1.0//EN
CALSCALE:GREGORIAN
METHOD:PUBLISH
X-WR-CALNAME:CLWA
X-ORIGINAL-URL:https://www.canandaigualakeassoc.org
X-WR-CALDESC:Events for CLWA
REFRESH-INTERVAL;VALUE=DURATION:PT1H
X-Robots-Tag:noindex
X-PUBLISHED-TTL:PT1H
BEGIN:VTIMEZONE
TZID:America/New_York
BEGIN:DAYLIGHT
TZOFFSETFROM:-0500
TZOFFSETTO:-0400
TZNAME:EDT
DTSTART:20190310T070000
END:DAYLIGHT
BEGIN:STANDARD
TZOFFSETFROM:-0400
TZOFFSETTO:-0500
TZNAME:EST
DTSTART:20191103T060000
END:STANDARD
BEGIN:DAYLIGHT
TZOFFSETFROM:-0500
TZOFFSETTO:-0400
TZNAME:EDT
DTSTART:20200308T070000
END:DAYLIGHT
BEGIN:STANDARD
TZOFFSETFROM:-0400
TZOFFSETTO:-0500
TZNAME:EST
DTSTART:20201101T060000
END:STANDARD
BEGIN:DAYLIGHT
TZOFFSETFROM:-0500
TZOFFSETTO:-0400
TZNAME:EDT
DTSTART:20210314T070000
END:DAYLIGHT
BEGIN:STANDARD
TZOFFSETFROM:-0400
TZOFFSETTO:-0500
TZNAME:EST
DTSTART:20211107T060000
END:STANDARD
BEGIN:DAYLIGHT
TZOFFSETFROM:-0500
TZOFFSETTO:-0400
TZNAME:EDT
DTSTART:20220313T070000
END:DAYLIGHT
BEGIN:STANDARD
TZOFFSETFROM:-0400
TZOFFSETTO:-0500
TZNAME:EST
DTSTART:20221106T060000
END:STANDARD
END:VTIMEZONE
BEGIN:VEVENT
DTSTART;TZID=America/New_York:20210420T060000
DTEND;TZID=America/New_York:20210420T070000
DTSTAMP:20260424T021410
CREATED:20210215T234302Z
LAST-MODIFIED:20210322T224004Z
UID:2914-1618898400-1618902000@www.canandaigualakeassoc.org
SUMMARY:Healthy Lawns\, Healthy Lake: A Webinar for Lawn Care Professionals
DESCRIPTION:This FREE webinar is offered to lawn care professionals and will provide practical strategies you can offer your customers that will reduce the amounts of pesticides and fertilizers needed while maintaining a high-quality lawn. Due to the heightened concern regarding harmful algae blooms each summer\, there is an increasing demand from your customers for this type of service. \nFrank Rossi is an associate professor at Cornell University in the School of Integrative Plant Science and is an Extension Turfgrass specialist. \nRossi will speak about practical solutions lawn care companies can use for their customers that balance lawn and lake health. \nThis event is co-sponsored by the Chatauqua Lake Watershed Conservancy and CLWA. \nJoin this event by following the link below: \nhttps://us02web.zoom.us/j/85822873598
URL:https://www.canandaigualakeassoc.org/event/healthy-lawns-healthy-lake-a-webinar-for-lawn-care-professionals/
LOCATION:Via Zoom
ATTACH;FMTTYPE=image/jpeg:https://www.canandaigualakeassoc.org/wp-content/uploads/2020/05/5979e388e1582-CLPinkSunrise-1.jpg
END:VEVENT
BEGIN:VEVENT
DTSTART;TZID=America/New_York:20210417T060000
DTEND;TZID=America/New_York:20210417T080000
DTSTAMP:20260424T021410
CREATED:20210227T171202Z
LAST-MODIFIED:20210227T174434Z
UID:2964-1618639200-1618646400@www.canandaigualakeassoc.org
SUMMARY:Gypsy Moth Scout & Scrape-a-thon at Bare Hill
DESCRIPTION:When our beautiful lake and watershed are bombarded by multiple threats\, many of you ask\, “but what CAN I do?” CLWA has a new volunteer opportunity to get some fresh air\, learn about the relationship between healthy trees and clean water\, and physically remove egg masses of the invasive European gypsy moth before they hatch later this spring! \nVolunteer for CLWA’s Gypsy Moth Scout & Scrape-a-thon scheduled for Saturday\, April 17 from 10:00 a.m. to 12:00 p.m at Bare Hill Unique Area. We will identify and remove gypsy moth egg masses at this family-friendly events held at different parks around the lake with noted infestations. One egg mass can contain 600 to 1\,000 eggs\, so destroying as many as possible will help in the effort to reduce the spring hatch. \nCLWA will provide a short training and materials needed; you provide the interest\, personal face masks\, and gloves. We will maintain a physically safe distance from each other\, wear masks\, and enjoy making a dent in the gypsy moth population in an environmentally safe manner. \nClick here to register: Bare Hill Scout & Scrape-a-thon \nAfter registering\, you will recieve a confirmation containing more information about gypsy moth scouting\, what to bring\, and other details. \nContact for the day:\nLynn Klotz: lynnK.clwa@gmail.com \nRain Date:\nApril 24th
URL:https://www.canandaigualakeassoc.org/event/bare-hill-gypsy-moth-scout-scrape-event/
LOCATION:Bare Hill Unique Area\, 5950 Van Epps Road\, Rushville\, NY\, 14544\, United States
ATTACH;FMTTYPE=image/jpeg:https://www.canandaigualakeassoc.org/wp-content/uploads/2021/02/yate2.jpg
END:VEVENT
BEGIN:VEVENT
DTSTART;TZID=America/New_York:20210407T150000
DTEND;TZID=America/New_York:20210407T160000
DTSTAMP:20260424T021410
CREATED:20210319T223402Z
LAST-MODIFIED:20210319T232642Z
UID:3039-1617807600-1617811200@www.canandaigualakeassoc.org
SUMMARY:Growing Together: Polyculture systems and their impact on the environment
DESCRIPTION:Growing Together will explore the current systems in conventional and regenerative agriculture.  Reviewing the scientific literature\, we will discuss ways that new\, sustainable farming and gardening practices strengthen ecosystems while minimizing inputs and maximizing returns to the grower.  These practices can be modified to be applied on farms\, at home gardens\, and even to your grocery shopping routines!  When it comes to creating a more sustainable food system\, there is something we all can do.  \nColden Proe is a resident of Canandaigua\, NY\, and a senior at Cornell University.  Studying Viticulture and Plant Science\, Colden is passionate about sustainable agriculture and science outreach\, and enjoys finding ways to share what he has learned with others.  He hopes that through education\, sustainable practices and habits will become as widespread as possible. \nTo Register for this event please follow: \nhttps://us02web.zoom.us/meeting/register/tZIqceCrrTMtEtaOcJjLNAKCbU4a-PXrohBN
URL:https://www.canandaigualakeassoc.org/event/growing-together-polyculture-systems-and-their-impact-on-the-environment/
LOCATION:Via Zoom
END:VEVENT
BEGIN:VEVENT
DTSTART;TZID=America/New_York:20210223T050000
DTEND;TZID=America/New_York:20210223T060000
DTSTAMP:20260424T021410
CREATED:20210119T202155Z
LAST-MODIFIED:20210202T002614Z
UID:2863-1614056400-1614060000@www.canandaigualakeassoc.org
SUMMARY:"Water is Life" a Virtual Presentation with G. Peter Jemison
DESCRIPTION:CLWA is pleased to welcome G. Peter Jemison (Seneca\, Heron Clan) on Tuesday\, February 23rd at 10:00 am for a virtual presentation titled “Water is Life”.    \nThe Hodinӧhsӧ:ni have a Thanksgiving address used to bring their minds together when gathering for a ceremony of social occasion. ​Using words that were laid down for us\, ​an individual “opens the gathering”\, giving thanks to the Creator’s Gifts. Following a specific order\, first\, the people are acknowledged\, next\, thanks are given for their Mother – the Earth\, and thirdly\, thanks are given for all the different forms of water that exist. \nIn this virtual presentation\, Jemison will describe how Canandaigua Lake was so much a part of the life of the Onӧndowa:gah (Seneca)\, the importance that it still holds in their culture today\, ​and a reflection on how the lake is faring in modern times. \nWe hope you will join us for this special presentation that is sure to spark discussion and thought. \nPlease note: Space is limited to 50 attendees for this virtual presentation\, and spots are reserved on a first come\, first served basis. Registration is required by following: https://us02web.zoom.us/webinar/register/WN_HACXhlOrR3W8C_bg90xb1g \n  \nJemison is a nationally recognized Seneca historian\, artist\, writer and curator. He is the former site manager of Ganondagan State Historic Site\, a recreation of a 17th-century Seneca village and interpretive facility which tells the more than 2\,000-year-old story of Seneca and Haudenosaunee contributions to art\, culture and society.
URL:https://www.canandaigualakeassoc.org/event/water-is-life-a-virtual-presentation-with-g-peter-jemison/
LOCATION:Via Zoom
ATTACH;FMTTYPE=image/jpeg:https://www.canandaigualakeassoc.org/wp-content/uploads/2021/01/zoom-banner.jpg
END:VEVENT
BEGIN:VEVENT
DTSTART;TZID=America/New_York:20210209T130000
DTEND;TZID=America/New_York:20210209T140000
DTSTAMP:20260424T021410
CREATED:20210206T220310Z
LAST-MODIFIED:20210206T220434Z
UID:2891-1612875600-1612879200@www.canandaigualakeassoc.org
SUMMARY:Learn how to find and report Hemlock Woolly Adelgid
DESCRIPTION:Join Ontario County Soil and Water Conservation District and the New York State Hemlock Initiative on Tuesday\, February 9\, 2021 at 6pm for a virtual webinar on the Hemlock Woolly Alelgid. \nAt this event\, you will learn about identifying Hemlock Woolly Adelgid (HWA) and using iMapInvasives to report this tiny insect that has had a disastrous affect on our Eastern Hemlock trees. This training will help you to easily identify and report the insect while you are out taking a winter hike. \nPlease register for this event to be sent a link to the webinar.
URL:https://www.canandaigualakeassoc.org/event/learn-how-to-find-and-report-hemlock-woolly-adelgid/
LOCATION:Via Zoom
ATTACH;FMTTYPE=image/jpeg:https://www.canandaigualakeassoc.org/wp-content/uploads/2019/08/Cover_HWA_Whitmore_highres_horiz.jpg
END:VEVENT
BEGIN:VEVENT
DTSTART;TZID=America/New_York:20201111T140000
DTEND;TZID=America/New_York:20201111T150000
DTSTAMP:20260424T021410
CREATED:20201016T190204Z
LAST-MODIFIED:20201016T191217Z
UID:2061-1605103200-1605106800@www.canandaigualakeassoc.org
SUMMARY:Birds of the Canandaigua Lake Watershed
DESCRIPTION:You cannot visit any of the Finger Lakes without encountering birds. From the majestic and almost mythical Bald Eagle to the common and overlooked gull species\, our lakes host a wide variety of birds that changes throughout the seasons. But does their presence tell us anything about the health of the watery world they frequent? Join John Van Niel\, Director of the FLCC Muller Field Station to see and hear about the birds that share our watershed and what they may be telling us about its quality. Coal mines had their canaries\, does Canandaigua Lake have one too? \nVan Niel is in his first year as Director of the Muller Field Station and his 26th year as a Professor in the Conservation Department at Finger Lakes Community College where he teaches wildlife classes. As an avid birder and photographer\, he will bring his images and experience to this virtual presentation. Questions are welcomed!
URL:https://www.canandaigualakeassoc.org/event/birds-of-the-canandaigua-lake-watershed/
LOCATION:Via Zoom
ATTACH;FMTTYPE=image/jpeg:https://www.canandaigualakeassoc.org/wp-content/uploads/2017/07/hd_involved.jpg
END:VEVENT
END:VCALENDAR