BEGIN:VCALENDAR
VERSION:2.0
PRODID:-//CLWA - ECPv6.15.20//NONSGML v1.0//EN
CALSCALE:GREGORIAN
METHOD:PUBLISH
X-ORIGINAL-URL:https://www.canandaigualakeassoc.org
X-WR-CALDESC:Events for CLWA
REFRESH-INTERVAL;VALUE=DURATION:PT1H
X-Robots-Tag:noindex
X-PUBLISHED-TTL:PT1H
BEGIN:VTIMEZONE
TZID:America/New_York
BEGIN:DAYLIGHT
TZOFFSETFROM:-0500
TZOFFSETTO:-0400
TZNAME:EDT
DTSTART:20250309T070000
END:DAYLIGHT
BEGIN:STANDARD
TZOFFSETFROM:-0400
TZOFFSETTO:-0500
TZNAME:EST
DTSTART:20251102T060000
END:STANDARD
BEGIN:DAYLIGHT
TZOFFSETFROM:-0500
TZOFFSETTO:-0400
TZNAME:EDT
DTSTART:20260308T070000
END:DAYLIGHT
BEGIN:STANDARD
TZOFFSETFROM:-0400
TZOFFSETTO:-0500
TZNAME:EST
DTSTART:20261101T060000
END:STANDARD
BEGIN:DAYLIGHT
TZOFFSETFROM:-0500
TZOFFSETTO:-0400
TZNAME:EDT
DTSTART:20270314T070000
END:DAYLIGHT
BEGIN:STANDARD
TZOFFSETFROM:-0400
TZOFFSETTO:-0500
TZNAME:EST
DTSTART:20271107T060000
END:STANDARD
END:VTIMEZONE
BEGIN:VEVENT
DTSTART;TZID=America/New_York:20260512T183000
DTEND;TZID=America/New_York:20260512T200000
DTSTAMP:20260421T145700
CREATED:20260312T204055Z
LAST-MODIFIED:20260319T150503Z
UID:8455-1778610600-1778616000@www.canandaigualakeassoc.org
SUMMARY:Rain Barrel Workshop at Star Cider
DESCRIPTION:When: Tuesday\, May 12th\, 6:30-8:00 PM \nWhere: Star Cider\, 3365 NY-364\, Canandaigua\, NY 14424 \nPlease join the CLWA for a rain barrel workshop presented to you by Alaina Robarge of Ontario County Soil and Water Conservation District (OCSWCD) to learn about the importance of managing stormwater and the benefits of using rain barrels at home. \nBenefits of Rain Barrel’s: \n\nInstalling a rain barrel is an easy way to protect our environment and save money\nThey collect and store rainwater from your roof that would otherwise be lost to runoff and diverted to storm drains or streams\nThe water from your barrel can be used for watering gardens and lawns\, cleaning outdoor furniture\, etc.\n\n  \nCost for the workshop is $30 for your 55 gallon rain barrel. Space is limited so register today! \n\n\n\n\n\n\n\nRegister below: \nPlease enable JavaScript in your browser to complete this form.Please enable JavaScript in your browser to complete this form.Name *FirstLastEmail *Phone *AddressAddress Line 1Address Line 2City--- Select state ---AlabamaAlaskaArizonaArkansasCaliforniaColoradoConnecticutDelawareDistrict of ColumbiaFloridaGeorgiaHawaiiIdahoIllinoisIndianaIowaKansasKentuckyLouisianaMaineMarylandMassachusettsMichiganMinnesotaMississippiMissouriMontanaNebraskaNevadaNew HampshireNew JerseyNew MexicoNew YorkNorth CarolinaNorth DakotaOhioOklahomaOregonPennsylvaniaRhode IslandSouth CarolinaSouth DakotaTennesseeTexasUtahVermontVirginiaWashingtonWest VirginiaWisconsinWyomingStateZip CodePlease list the names of other family members attending (if any):  FirstLastPlease list the names of family members attending (if any):   FirstLastRain Barrel Order *One Rain BarrelTwo Rain BarrelsStripe Credit Card *Comments / Questions Submit
URL:https://www.canandaigualakeassoc.org/event/rain-barrel-workshop-at-star-cider/
LOCATION:Star Cider\, 3365 NY-364\, Canandaigua\, NY\, 14424
ATTACH;FMTTYPE=image/png:https://www.canandaigualakeassoc.org/wp-content/uploads/2026/03/Rain-Barrel-Workshop-Half-Page-Flyer-1.png
END:VEVENT
END:VCALENDAR