BEGIN:VCALENDAR
VERSION:2.0
PRODID:-//CLWA - ECPv6.15.20//NONSGML v1.0//EN
CALSCALE:GREGORIAN
METHOD:PUBLISH
X-ORIGINAL-URL:https://www.canandaigualakeassoc.org
X-WR-CALDESC:Events for CLWA
REFRESH-INTERVAL;VALUE=DURATION:PT1H
X-Robots-Tag:noindex
X-PUBLISHED-TTL:PT1H
BEGIN:VTIMEZONE
TZID:America/New_York
BEGIN:DAYLIGHT
TZOFFSETFROM:-0500
TZOFFSETTO:-0400
TZNAME:EDT
DTSTART:20250309T070000
END:DAYLIGHT
BEGIN:STANDARD
TZOFFSETFROM:-0400
TZOFFSETTO:-0500
TZNAME:EST
DTSTART:20251102T060000
END:STANDARD
BEGIN:DAYLIGHT
TZOFFSETFROM:-0500
TZOFFSETTO:-0400
TZNAME:EDT
DTSTART:20260308T070000
END:DAYLIGHT
BEGIN:STANDARD
TZOFFSETFROM:-0400
TZOFFSETTO:-0500
TZNAME:EST
DTSTART:20261101T060000
END:STANDARD
BEGIN:DAYLIGHT
TZOFFSETFROM:-0500
TZOFFSETTO:-0400
TZNAME:EDT
DTSTART:20270314T070000
END:DAYLIGHT
BEGIN:STANDARD
TZOFFSETFROM:-0400
TZOFFSETTO:-0500
TZNAME:EST
DTSTART:20271107T060000
END:STANDARD
END:VTIMEZONE
BEGIN:VEVENT
DTSTART;TZID=America/New_York:20260408T183000
DTEND;TZID=America/New_York:20260408T193000
DTSTAMP:20260421T175001
CREATED:20260204T211846Z
LAST-MODIFIED:20260306T221836Z
UID:8423-1775673000-1775676600@www.canandaigualakeassoc.org
SUMMARY:Canandaigua Lake Fisheries Update
DESCRIPTION:When: Wednesday\, April 8th\, 6:30-7:30 PM \nWhere: Finger Lakes Community College\, Stage 14\, 3325 Marvin Sands Drive\, Canandaigua\, NY 14424 \nJoin the CLWA for a presentation by DEC Aquatic Biologist Pete Austerman. Summaries of recent fish sampling on Canandaigua Lake and habitat enhancement work on Naples Creek will be shared. \nRegister here: \nhttps://forms.gle/13UjHTRc2LzzT3Md8
URL:https://www.canandaigualakeassoc.org/event/canandaigua-lake-fisheries-update/
LOCATION:Finger Lakes Community College\, Canandaigua\, New York\, 14424
ATTACH;FMTTYPE=image/jpeg:https://www.canandaigualakeassoc.org/wp-content/uploads/2026/02/IMG_2563.jpg
END:VEVENT
END:VCALENDAR