BEGIN:VCALENDAR
VERSION:2.0
PRODID:-//CLWA - ECPv6.15.20//NONSGML v1.0//EN
CALSCALE:GREGORIAN
METHOD:PUBLISH
X-WR-CALNAME:CLWA
X-ORIGINAL-URL:https://www.canandaigualakeassoc.org
X-WR-CALDESC:Events for CLWA
REFRESH-INTERVAL;VALUE=DURATION:PT1H
X-Robots-Tag:noindex
X-PUBLISHED-TTL:PT1H
BEGIN:VTIMEZONE
TZID:America/New_York
BEGIN:DAYLIGHT
TZOFFSETFROM:-0500
TZOFFSETTO:-0400
TZNAME:EDT
DTSTART:20250309T070000
END:DAYLIGHT
BEGIN:STANDARD
TZOFFSETFROM:-0400
TZOFFSETTO:-0500
TZNAME:EST
DTSTART:20251102T060000
END:STANDARD
BEGIN:DAYLIGHT
TZOFFSETFROM:-0500
TZOFFSETTO:-0400
TZNAME:EDT
DTSTART:20260308T070000
END:DAYLIGHT
BEGIN:STANDARD
TZOFFSETFROM:-0400
TZOFFSETTO:-0500
TZNAME:EST
DTSTART:20261101T060000
END:STANDARD
BEGIN:DAYLIGHT
TZOFFSETFROM:-0500
TZOFFSETTO:-0400
TZNAME:EDT
DTSTART:20270314T070000
END:DAYLIGHT
BEGIN:STANDARD
TZOFFSETFROM:-0400
TZOFFSETTO:-0500
TZNAME:EST
DTSTART:20271107T060000
END:STANDARD
END:VTIMEZONE
BEGIN:VEVENT
DTSTART;TZID=America/New_York:20260303T183000
DTEND;TZID=America/New_York:20260303T193000
DTSTAMP:20260425T130239
CREATED:20260121T233359Z
LAST-MODIFIED:20260302T162728Z
UID:8398-1772562600-1772566200@www.canandaigualakeassoc.org
SUMMARY:A Living Canandaigua Lake: How Wildlife Shape Watershed Health
DESCRIPTION:When: Tuesday\, March 3rd\, 6:30-7:30 PM \nWhere: Finger Lakes Community College\, Stage 14\, 3325 Marvin Sands Drive\, Canandaigua\, NY 14424 \n  \nJoin the CLWA on National Wildlife Day for a presentation by FLCC Professor John Bateman on how wildlife shape Canandaigua Lake watershed health. This will be engaging with lots of great visuals. \n  \nRegister at the link below: \nhttps://forms.gle/vpXLskr7JA4edYLt6 \n  \nPhoto by Joann Long
URL:https://www.canandaigualakeassoc.org/event/a-living-canandaigua-lake-how-wildlife-shape-watershed-health/
LOCATION:New York
ATTACH;FMTTYPE=image/jpeg:https://www.canandaigualakeassoc.org/wp-content/uploads/2026/01/64793a92c8c18-Long__5009592-Edit-scaled.jpg
END:VEVENT
END:VCALENDAR