BEGIN:VCALENDAR
VERSION:2.0
PRODID:-//CLWA - ECPv6.15.20//NONSGML v1.0//EN
CALSCALE:GREGORIAN
METHOD:PUBLISH
X-ORIGINAL-URL:https://www.canandaigualakeassoc.org
X-WR-CALDESC:Events for CLWA
REFRESH-INTERVAL;VALUE=DURATION:PT1H
X-Robots-Tag:noindex
X-PUBLISHED-TTL:PT1H
BEGIN:VTIMEZONE
TZID:America/New_York
BEGIN:DAYLIGHT
TZOFFSETFROM:-0500
TZOFFSETTO:-0400
TZNAME:EDT
DTSTART:20250309T070000
END:DAYLIGHT
BEGIN:STANDARD
TZOFFSETFROM:-0400
TZOFFSETTO:-0500
TZNAME:EST
DTSTART:20251102T060000
END:STANDARD
BEGIN:DAYLIGHT
TZOFFSETFROM:-0500
TZOFFSETTO:-0400
TZNAME:EDT
DTSTART:20260308T070000
END:DAYLIGHT
BEGIN:STANDARD
TZOFFSETFROM:-0400
TZOFFSETTO:-0500
TZNAME:EST
DTSTART:20261101T060000
END:STANDARD
BEGIN:DAYLIGHT
TZOFFSETFROM:-0500
TZOFFSETTO:-0400
TZNAME:EDT
DTSTART:20270314T070000
END:DAYLIGHT
BEGIN:STANDARD
TZOFFSETFROM:-0400
TZOFFSETTO:-0500
TZNAME:EST
DTSTART:20271107T060000
END:STANDARD
END:VTIMEZONE
BEGIN:VEVENT
DTSTART;TZID=America/New_York:20260224T183000
DTEND;TZID=America/New_York:20260224T193000
DTSTAMP:20260425T165916
CREATED:20260106T205701Z
LAST-MODIFIED:20260106T205926Z
UID:8385-1771957800-1771961400@www.canandaigualakeassoc.org
SUMMARY:Native Alternatives to Invasive Plants Zoom Presentation
DESCRIPTION:Join Emily DeBolt\, Executive Director of the Canandaigua Lake Watershed Association\, for a discussion on native alternatives to invasive plants for this zoom presentation. Emily will explain what makes a plant invasive\, outline New York State regulations on invasive plant sales\, and highlight beautiful\, easy-to-grow native plants you can use instead.  \nRegister at the link below: \nhttps://us02web.zoom.us/meeting/register/pYXkjUshTzOU3NSaDOQ2oQ
URL:https://www.canandaigualakeassoc.org/event/native-alternatives-to-invasive-plants-zoom-presentation/
LOCATION:Via Zoom
ATTACH;FMTTYPE=image/jpeg:https://www.canandaigualakeassoc.org/wp-content/uploads/2026/01/black-chokeberry-viking-smaller.jpg
END:VEVENT
END:VCALENDAR