BEGIN:VCALENDAR
VERSION:2.0
PRODID:-//CLWA - ECPv6.15.20//NONSGML v1.0//EN
CALSCALE:GREGORIAN
METHOD:PUBLISH
X-ORIGINAL-URL:https://www.canandaigualakeassoc.org
X-WR-CALDESC:Events for CLWA
REFRESH-INTERVAL;VALUE=DURATION:PT1H
X-Robots-Tag:noindex
X-PUBLISHED-TTL:PT1H
BEGIN:VTIMEZONE
TZID:America/New_York
BEGIN:DAYLIGHT
TZOFFSETFROM:-0500
TZOFFSETTO:-0400
TZNAME:EDT
DTSTART:20250309T070000
END:DAYLIGHT
BEGIN:STANDARD
TZOFFSETFROM:-0400
TZOFFSETTO:-0500
TZNAME:EST
DTSTART:20251102T060000
END:STANDARD
BEGIN:DAYLIGHT
TZOFFSETFROM:-0500
TZOFFSETTO:-0400
TZNAME:EDT
DTSTART:20260308T070000
END:DAYLIGHT
BEGIN:STANDARD
TZOFFSETFROM:-0400
TZOFFSETTO:-0500
TZNAME:EST
DTSTART:20261101T060000
END:STANDARD
BEGIN:DAYLIGHT
TZOFFSETFROM:-0500
TZOFFSETTO:-0400
TZNAME:EDT
DTSTART:20270314T070000
END:DAYLIGHT
BEGIN:STANDARD
TZOFFSETFROM:-0400
TZOFFSETTO:-0500
TZNAME:EST
DTSTART:20271107T060000
END:STANDARD
END:VTIMEZONE
BEGIN:VEVENT
DTSTART;TZID=America/New_York:20260212T183000
DTEND;TZID=America/New_York:20260212T193000
DTSTAMP:20260425T165916
CREATED:20260116T163024Z
LAST-MODIFIED:20260116T163810Z
UID:8392-1770921000-1770924600@www.canandaigualakeassoc.org
SUMMARY:Understanding Waste Disposal and Recycling in Ontario County
DESCRIPTION:When: Thursday\, February 12th at 6:30 PM\nWhere: Via Zoom \nA common misconception is that one person’s actions don’t make a difference. All of the small decisions that you make every day add up. Whether you are choosing to reduce waste\, finding ways to reuse materials\, or looking for recycling information. What you do matters! Keep choosing to do the right thing and learn where to find resources and information. Staff from Ontario County Department of Sustainability and Waste Management are here to answer questions during this zoom presentation in partnership with the CLWA. Learn more about our presenters and register below: \nCarla Jordan\, Director\, Ontario County Department of Sustainability & Solid Waste Management\nCarla Jordan is the Director of Sustainability and Solid Waste Management for Ontario County. With over 20 years of experience in the waste management industry\, she is responsible for guiding her Department in their implementation of the County’s Local Solid Waste Management Plan and Sustainability & Solid Waste Strategic Plan\, providing landfill oversight\, and assisting with the creation of waste reduction public policy\, education and program development. \nKaitlynn McCumiskey\, Sustainability Assistant\, Ontario County Department of Sustainability & Solid Waste Management\nAs a sustainability assistant for Ontario County\, Kaitlynn is responsible for the planning\, implementation and logistical support of a variety of special collection events\, she spearheads special projects aimed at waste reduction\, and serves as the County’s primary recycling educator. \nRegister at the link below: \nhttps://us02web.zoom.us/meeting/register/jvMMKrDmRwWGhPENA9QXuA
URL:https://www.canandaigualakeassoc.org/event/understanding-waste-disposal-and-recycling-in-ontario-county/
LOCATION:Via Zoom
ATTACH;FMTTYPE=image/png:https://www.canandaigualakeassoc.org/wp-content/uploads/2026/01/Screenshot-2026-01-16-110720.png
END:VEVENT
END:VCALENDAR