BEGIN:VCALENDAR
VERSION:2.0
PRODID:-//CLWA - ECPv6.15.20//NONSGML v1.0//EN
CALSCALE:GREGORIAN
METHOD:PUBLISH
X-ORIGINAL-URL:https://www.canandaigualakeassoc.org
X-WR-CALDESC:Events for CLWA
REFRESH-INTERVAL;VALUE=DURATION:PT1H
X-Robots-Tag:noindex
X-PUBLISHED-TTL:PT1H
BEGIN:VTIMEZONE
TZID:America/New_York
BEGIN:DAYLIGHT
TZOFFSETFROM:-0500
TZOFFSETTO:-0400
TZNAME:EDT
DTSTART:20250309T070000
END:DAYLIGHT
BEGIN:STANDARD
TZOFFSETFROM:-0400
TZOFFSETTO:-0500
TZNAME:EST
DTSTART:20251102T060000
END:STANDARD
BEGIN:DAYLIGHT
TZOFFSETFROM:-0500
TZOFFSETTO:-0400
TZNAME:EDT
DTSTART:20260308T070000
END:DAYLIGHT
BEGIN:STANDARD
TZOFFSETFROM:-0400
TZOFFSETTO:-0500
TZNAME:EST
DTSTART:20261101T060000
END:STANDARD
BEGIN:DAYLIGHT
TZOFFSETFROM:-0500
TZOFFSETTO:-0400
TZNAME:EDT
DTSTART:20270314T070000
END:DAYLIGHT
BEGIN:STANDARD
TZOFFSETFROM:-0400
TZOFFSETTO:-0500
TZNAME:EST
DTSTART:20271107T060000
END:STANDARD
END:VTIMEZONE
BEGIN:VEVENT
DTSTART;TZID=America/New_York:20260121T120000
DTEND;TZID=America/New_York:20260121T140000
DTSTAMP:20260425T183614
CREATED:20260106T183150Z
LAST-MODIFIED:20260106T183429Z
UID:8378-1768996800-1769004000@www.canandaigualakeassoc.org
SUMMARY:Hemlock Woolly Adelgid Workshop in Partnership with FLPRISM
DESCRIPTION:Please join us for an upcoming Hemlock Woolly Adelgid (HWA) workshop that we are co-hosting with the Finger Lakes PRISM this winter at Onanda Park. We would like as many volunteers as possible involved in this program! Our Hemlocks are under threat and we need all hands on deck to help identify where HWA is located so better plans and efforts can be made to treat it and limit its spread. \nOn the Finger Lakes PRISM website\, you will find online training resources for the HWA Survey Program. Participations are encouraged to survey outside of just the workshops. \nWe hope to see you there. Please Register below: \nhttps://bit.ly/4aInkNO \nCitizen Science Programs
URL:https://www.canandaigualakeassoc.org/event/hemlock-woolly-adelgid-workshop-in-partnership-with-flprism/
LOCATION:New York
ATTACH;FMTTYPE=image/png:https://www.canandaigualakeassoc.org/wp-content/uploads/2026/01/HWA_26_CLWA.png
END:VEVENT
END:VCALENDAR